BEGIN:VCALENDAR
VERSION:2.0
PRODID:-//ChamberMaster//Event Calendar 2.0//EN
METHOD:PUBLISH
X-PUBLISHED-TTL:P3D
REFRESH-INTERVAL:P3D
CALSCALE:GREGORIAN
BEGIN:VEVENT
DTSTART:20201229T230000Z
DTEND:20201230T000000Z
X-MICROSOFT-CDO-ALLDAYEVENT:FALSE
SUMMARY:Airport Commission
DESCRIPTION:
X-ALT-DESC;FMTTYPE=text/html:
LOCATION:Meeting is held at City Hall in the Council Chambers
UID:e.1497.2680
SEQUENCE:3
DTSTAMP:20260424T132732Z
URL:https://business.jacksonmn.com/events/details/airport-commission-12-29-2020-2680
END:VEVENT

END:VCALENDAR
