BEGIN:VCALENDAR
VERSION:2.0
PRODID:-//ChamberMaster//Event Calendar 2.0//EN
METHOD:PUBLISH
X-PUBLISHED-TTL:P3D
REFRESH-INTERVAL:P3D
CALSCALE:GREGORIAN
BEGIN:VEVENT
DTSTART:20220404T223000Z
DTEND:20220405T000000Z
X-MICROSOFT-CDO-ALLDAYEVENT:FALSE
SUMMARY:Chamber Board Meeting
DESCRIPTION:
X-ALT-DESC;FMTTYPE=text/html:
LOCATION:Meeting is held in the large conference room at Pizza Ranch
UID:e.1497.315
SEQUENCE:3
DTSTAMP:20260423T113940Z
URL:https://business.jacksonmn.com/events/details/chamber-board-meeting-04-04-2022-315
END:VEVENT

END:VCALENDAR
