BEGIN:VCALENDAR
VERSION:2.0
PRODID:-//ChamberMaster//Event Calendar 2.0//EN
METHOD:PUBLISH
X-PUBLISHED-TTL:P3D
REFRESH-INTERVAL:P3D
CALSCALE:GREGORIAN
BEGIN:VEVENT
DTSTART:20220621T233000Z
DTEND:20220622T010000Z
X-MICROSOFT-CDO-ALLDAYEVENT:FALSE
SUMMARY:City Council Meeting
DESCRIPTION:
X-ALT-DESC;FMTTYPE=text/html:
LOCATION:Meets held at City Hall in the Council Chambers
UID:e.1497.1823
SEQUENCE:3
DTSTAMP:20260423T100921Z
URL:https://business.jacksonmn.com/events/details/city-council-meeting-06-21-2022-1823
END:VEVENT

END:VCALENDAR
