BEGIN:VCALENDAR
VERSION:2.0
PRODID:-//ChamberMaster//Event Calendar 2.0//EN
METHOD:PUBLISH
X-PUBLISHED-TTL:P3D
REFRESH-INTERVAL:P3D
CALSCALE:GREGORIAN
BEGIN:VEVENT
DTSTART:20220816T233000Z
DTEND:20220817T010000Z
X-MICROSOFT-CDO-ALLDAYEVENT:FALSE
SUMMARY:City Council Meeting
DESCRIPTION:
X-ALT-DESC;FMTTYPE=text/html:
LOCATION:Meets held at City Hall in the Council Chambers
UID:e.1497.1825
SEQUENCE:3
DTSTAMP:20260423T054755Z
URL:https://business.jacksonmn.com/events/details/city-council-meeting-08-16-2022-1825
END:VEVENT

END:VCALENDAR
