BEGIN:VCALENDAR
VERSION:2.0
PRODID:-//ChamberMaster//Event Calendar 2.0//EN
METHOD:PUBLISH
X-PUBLISHED-TTL:P3D
REFRESH-INTERVAL:P3D
CALSCALE:GREGORIAN
BEGIN:VEVENT
DTSTART:20221004T233000Z
DTEND:20221005T003000Z
X-MICROSOFT-CDO-ALLDAYEVENT:FALSE
SUMMARY:City Council Meeting
DESCRIPTION:
X-ALT-DESC;FMTTYPE=text/html:
LOCATION:Meeting is held at City Hall in the Council Chambers
UID:e.1497.576
SEQUENCE:3
DTSTAMP:20260423T042221Z
URL:https://business.jacksonmn.com/events/details/city-council-meeting-10-04-2022-576
END:VEVENT

END:VCALENDAR
