BEGIN:VCALENDAR
VERSION:2.0
PRODID:-//ChamberMaster//Event Calendar 2.0//EN
METHOD:PUBLISH
X-PUBLISHED-TTL:P3D
REFRESH-INTERVAL:P3D
CALSCALE:GREGORIAN
BEGIN:VEVENT
DTSTART:20221221T003000Z
DTEND:20221221T020000Z
X-MICROSOFT-CDO-ALLDAYEVENT:FALSE
SUMMARY:City Council Meeting
DESCRIPTION:
X-ALT-DESC;FMTTYPE=text/html:
LOCATION:Meets held at City Hall in the Council Chambers
UID:e.1497.1829
SEQUENCE:3
DTSTAMP:20260422T232705Z
URL:https://business.jacksonmn.com/events/details/city-council-meeting-12-20-2022-1829
END:VEVENT

END:VCALENDAR
