BEGIN:VCALENDAR
VERSION:2.0
PRODID:-//ChamberMaster//Event Calendar 2.0//EN
METHOD:PUBLISH
X-PUBLISHED-TTL:P3D
REFRESH-INTERVAL:P3D
CALSCALE:GREGORIAN
BEGIN:VEVENT
DTSTART:20210223T150000Z
DTEND:20210223T163000Z
X-MICROSOFT-CDO-ALLDAYEVENT:FALSE
SUMMARY:County Commissioners
DESCRIPTION:
X-ALT-DESC;FMTTYPE=text/html:
LOCATION:Meeting is held at The Courthouse
UID:e.1497.2557
SEQUENCE:3
DTSTAMP:20260424T102011Z
URL:https://business.jacksonmn.com/events/details/county-commissioners-02-23-2021-2557
END:VEVENT

END:VCALENDAR
