BEGIN:VCALENDAR
VERSION:2.0
PRODID:-//ChamberMaster//Event Calendar 2.0//EN
METHOD:PUBLISH
X-PUBLISHED-TTL:P3D
REFRESH-INTERVAL:P3D
CALSCALE:GREGORIAN
BEGIN:VEVENT
DTSTART:20200623T140000Z
DTEND:20200623T153000Z
X-MICROSOFT-CDO-ALLDAYEVENT:FALSE
SUMMARY:County Commissioners
DESCRIPTION:
X-ALT-DESC;FMTTYPE=text/html:
LOCATION:Meeting is held at The Courthouse
UID:e.1497.2549
SEQUENCE:3
DTSTAMP:20260424T210102Z
URL:https://business.jacksonmn.com/events/details/county-commissioners-06-23-2020-2549
END:VEVENT

END:VCALENDAR
