BEGIN:VCALENDAR
VERSION:2.0
PRODID:-//ChamberMaster//Event Calendar 2.0//EN
METHOD:PUBLISH
X-PUBLISHED-TTL:P3D
REFRESH-INTERVAL:P3D
CALSCALE:GREGORIAN
BEGIN:VEVENT
DTSTART:20230110T150000Z
DTEND:20230110T163000Z
X-MICROSOFT-CDO-ALLDAYEVENT:FALSE
SUMMARY:County Commissioners Meeting
DESCRIPTION:
X-ALT-DESC;FMTTYPE=text/html:
LOCATION:Meetings are held at the Courthouse
UID:e.1497.955
SEQUENCE:3
DTSTAMP:20260422T214613Z
URL:https://business.jacksonmn.com/events/details/county-commissioners-meeting-01-10-2023-955
END:VEVENT

END:VCALENDAR
