BEGIN:VCALENDAR
VERSION:2.0
PRODID:-//ChamberMaster//Event Calendar 2.0//EN
METHOD:PUBLISH
X-PUBLISHED-TTL:P3D
REFRESH-INTERVAL:P3D
CALSCALE:GREGORIAN
BEGIN:VEVENT
DTSTART:20221011T140000Z
DTEND:20221011T153000Z
X-MICROSOFT-CDO-ALLDAYEVENT:FALSE
SUMMARY:County Commissioners Meeting
DESCRIPTION:
X-ALT-DESC;FMTTYPE=text/html:
LOCATION:Meetings are held at the Courthouse
UID:e.1497.952
SEQUENCE:3
DTSTAMP:20260423T025731Z
URL:https://business.jacksonmn.com/events/details/county-commissioners-meeting-10-11-2022-952
END:VEVENT

END:VCALENDAR
