BEGIN:VCALENDAR
VERSION:2.0
PRODID:-//ChamberMaster//Event Calendar 2.0//EN
METHOD:PUBLISH
X-PUBLISHED-TTL:P3D
REFRESH-INTERVAL:P3D
CALSCALE:GREGORIAN
BEGIN:VEVENT
DTSTART:20221108T150000Z
DTEND:20221108T163000Z
X-MICROSOFT-CDO-ALLDAYEVENT:FALSE
SUMMARY:County Commissioners Meeting
DESCRIPTION:
X-ALT-DESC;FMTTYPE=text/html:
LOCATION:Meetings are held at the Courthouse
UID:e.1497.953
SEQUENCE:3
DTSTAMP:20260423T023539Z
URL:https://business.jacksonmn.com/events/details/county-commissioners-meeting-11-08-2022-953
END:VEVENT

END:VCALENDAR
