BEGIN:VCALENDAR
VERSION:2.0
PRODID:-//ChamberMaster//Event Calendar 2.0//EN
METHOD:PUBLISH
X-PUBLISHED-TTL:P3D
REFRESH-INTERVAL:P3D
CALSCALE:GREGORIAN
BEGIN:VEVENT
DTSTART:20220113T180000Z
DTEND:20220113T190000Z
X-MICROSOFT-CDO-ALLDAYEVENT:FALSE
SUMMARY:EDA Meeting
DESCRIPTION:
X-ALT-DESC;FMTTYPE=text/html:
LOCATION:Meetings are held at City Hall in the Council Chambers
UID:e.1497.1443
SEQUENCE:3
DTSTAMP:20260423T172906Z
URL:https://business.jacksonmn.com/events/details/eda-meeting-01-13-2022-1443
END:VEVENT

END:VCALENDAR
