BEGIN:VCALENDAR
VERSION:2.0
PRODID:-//ChamberMaster//Event Calendar 2.0//EN
METHOD:PUBLISH
X-PUBLISHED-TTL:P3D
REFRESH-INTERVAL:P3D
CALSCALE:GREGORIAN
BEGIN:VEVENT
DTSTART:20210202T000000Z
DTEND:20210202T020000Z
X-MICROSOFT-CDO-ALLDAYEVENT:FALSE
SUMMARY:Fire Department Meeting
DESCRIPTION:
X-ALT-DESC;FMTTYPE=text/html:
LOCATION:Meetings take place at the Fire Department
UID:e.1497.431
SEQUENCE:3
DTSTAMP:20260424T102339Z
URL:https://business.jacksonmn.com/events/details/fire-department-meeting-02-01-2021-431
END:VEVENT

END:VCALENDAR
