BEGIN:VCALENDAR
VERSION:2.0
PRODID:-//ChamberMaster//Event Calendar 2.0//EN
METHOD:PUBLISH
X-PUBLISHED-TTL:P3D
REFRESH-INTERVAL:P3D
CALSCALE:GREGORIAN
BEGIN:VEVENT
DTSTART:20220606T230000Z
DTEND:20220607T010000Z
X-MICROSOFT-CDO-ALLDAYEVENT:FALSE
SUMMARY:Fire Department Meeting
DESCRIPTION:
X-ALT-DESC;FMTTYPE=text/html:
LOCATION:Meetings take place at the Fire Department
UID:e.1497.447
SEQUENCE:3
DTSTAMP:20260423T100747Z
URL:https://business.jacksonmn.com/events/details/fire-department-meeting-06-06-2022-447
END:VEVENT

END:VCALENDAR
