BEGIN:VCALENDAR
VERSION:2.0
PRODID:-//ChamberMaster//Event Calendar 2.0//EN
METHOD:PUBLISH
X-PUBLISHED-TTL:P3D
REFRESH-INTERVAL:P3D
CALSCALE:GREGORIAN
BEGIN:VEVENT
DTSTART:20220719T000000Z
DTEND:20220719T013000Z
X-MICROSOFT-CDO-ALLDAYEVENT:FALSE
SUMMARY:Fire Department Meeting
DESCRIPTION:
X-ALT-DESC;FMTTYPE=text/html:
LOCATION:Meets held at the Fire Department
UID:e.1497.1699
SEQUENCE:3
DTSTAMP:20260423T070525Z
URL:https://business.jacksonmn.com/events/details/fire-department-meeting-07-18-2022-1699
END:VEVENT

END:VCALENDAR
