BEGIN:VCALENDAR
VERSION:2.0
PRODID:-//ChamberMaster//Event Calendar 2.0//EN
METHOD:PUBLISH
X-PUBLISHED-TTL:P3D
REFRESH-INTERVAL:P3D
CALSCALE:GREGORIAN
BEGIN:VEVENT
DTSTART:20190805T230000Z
DTEND:20190806T010000Z
X-MICROSOFT-CDO-ALLDAYEVENT:FALSE
SUMMARY:Fire Department Meeting
DESCRIPTION:
X-ALT-DESC;FMTTYPE=text/html:
LOCATION:Meetings take place at the Fire Department
UID:e.1497.413
SEQUENCE:3
DTSTAMP:20260425T130736Z
URL:https://business.jacksonmn.com/events/details/fire-department-meeting-08-05-2019-413
END:VEVENT

END:VCALENDAR
