BEGIN:VCALENDAR
VERSION:2.0
PRODID:-//ChamberMaster//Event Calendar 2.0//EN
METHOD:PUBLISH
X-PUBLISHED-TTL:P3D
REFRESH-INTERVAL:P3D
CALSCALE:GREGORIAN
BEGIN:VEVENT
DTSTART:20221206T000000Z
DTEND:20221206T020000Z
X-MICROSOFT-CDO-ALLDAYEVENT:FALSE
SUMMARY:Fire Department Meeting
DESCRIPTION:
X-ALT-DESC;FMTTYPE=text/html:
LOCATION:Meetings take place at the Fire Department
UID:e.1497.453
SEQUENCE:3
DTSTAMP:20260422T232518Z
URL:https://business.jacksonmn.com/events/details/fire-department-meeting-12-05-2022-453
END:VEVENT

END:VCALENDAR
