BEGIN:VCALENDAR
VERSION:2.0
PRODID:-//ChamberMaster//Event Calendar 2.0//EN
METHOD:PUBLISH
X-PUBLISHED-TTL:P3D
REFRESH-INTERVAL:P3D
CALSCALE:GREGORIAN
BEGIN:VEVENT
DTSTART:20230111T010000Z
DTEND:20230111T023000Z
X-MICROSOFT-CDO-ALLDAYEVENT:FALSE
SUMMARY:Fort Belmont Board Meeting
DESCRIPTION:
X-ALT-DESC;FMTTYPE=text/html:
LOCATION:Meetings are held at Fort Belmont
UID:e.1497.1080
SEQUENCE:3
DTSTAMP:20260422T214736Z
URL:https://business.jacksonmn.com/events/details/fort-belmont-board-meeting-01-10-2023-1080
END:VEVENT

END:VCALENDAR
