BEGIN:VCALENDAR
VERSION:2.0
PRODID:-//ChamberMaster//Event Calendar 2.0//EN
METHOD:PUBLISH
X-PUBLISHED-TTL:P3D
REFRESH-INTERVAL:P3D
CALSCALE:GREGORIAN
BEGIN:VEVENT
DTSTART:20220914T000000Z
DTEND:20220914T013000Z
X-MICROSOFT-CDO-ALLDAYEVENT:FALSE
SUMMARY:Fort Belmont Board Meeting
DESCRIPTION:
X-ALT-DESC;FMTTYPE=text/html:
LOCATION:Meetings are held at Fort Belmont
UID:e.1497.1076
SEQUENCE:3
DTSTAMP:20260423T042225Z
URL:https://business.jacksonmn.com/events/details/fort-belmont-board-meeting-09-13-2022-1076
END:VEVENT

END:VCALENDAR
