BEGIN:VCALENDAR
VERSION:2.0
PRODID:-//ChamberMaster//Event Calendar 2.0//EN
METHOD:PUBLISH
X-PUBLISHED-TTL:P3D
REFRESH-INTERVAL:P3D
CALSCALE:GREGORIAN
BEGIN:VEVENT
DTSTART:20211215T010000Z
DTEND:20211215T023000Z
X-MICROSOFT-CDO-ALLDAYEVENT:FALSE
SUMMARY:Fort Belmont Board Meeting
DESCRIPTION:
X-ALT-DESC;FMTTYPE=text/html:
LOCATION:Meetings are held at Fort Belmont
UID:e.1497.1067
SEQUENCE:3
DTSTAMP:20260423T185127Z
URL:https://business.jacksonmn.com/events/details/fort-belmont-board-meeting-12-14-2021-1067
END:VEVENT

END:VCALENDAR
