BEGIN:VCALENDAR
VERSION:2.0
PRODID:-//ChamberMaster//Event Calendar 2.0//EN
METHOD:PUBLISH
X-PUBLISHED-TTL:P3D
REFRESH-INTERVAL:P3D
CALSCALE:GREGORIAN
BEGIN:VEVENT
DTSTART:20220316T170000Z
DTEND:20220316T180000Z
X-MICROSOFT-CDO-ALLDAYEVENT:FALSE
SUMMARY:Health Care Foundation Meeting
DESCRIPTION:
X-ALT-DESC;FMTTYPE=text/html:
LOCATION:Meets are held at Sanford Jackson Medical Center
UID:e.1497.1945
SEQUENCE:3
DTSTAMP:20260423T131041Z
URL:https://business.jacksonmn.com/events/details/health-care-foundation-meeting-03-16-2022-1945
END:VEVENT

END:VCALENDAR
