BEGIN:VCALENDAR
VERSION:2.0
PRODID:-//ChamberMaster//Event Calendar 2.0//EN
METHOD:PUBLISH
X-PUBLISHED-TTL:P3D
REFRESH-INTERVAL:P3D
CALSCALE:GREGORIAN
BEGIN:VEVENT
DTSTART:20190918T170000Z
DTEND:20190918T180000Z
X-MICROSOFT-CDO-ALLDAYEVENT:FALSE
SUMMARY:Health Care Foundation Meeting
DESCRIPTION:
X-ALT-DESC;FMTTYPE=text/html:
LOCATION:Meets are held at Sanford Jackson Medical Center
UID:e.1497.1915
SEQUENCE:3
DTSTAMP:20260425T112738Z
URL:https://business.jacksonmn.com/events/details/health-care-foundation-meeting-09-18-2019-1915
END:VEVENT

END:VCALENDAR
