BEGIN:VCALENDAR
VERSION:2.0
PRODID:-//ChamberMaster//Event Calendar 2.0//EN
METHOD:PUBLISH
X-PUBLISHED-TTL:P3D
REFRESH-INTERVAL:P3D
CALSCALE:GREGORIAN
BEGIN:VEVENT
DTSTART:20221221T180000Z
DTEND:20221221T190000Z
X-MICROSOFT-CDO-ALLDAYEVENT:FALSE
SUMMARY:Health Care Foundation Meeting
DESCRIPTION:
X-ALT-DESC;FMTTYPE=text/html:
LOCATION:Meets are held at Sanford Jackson Medical Center
UID:e.1497.1954
SEQUENCE:3
DTSTAMP:20260422T232848Z
URL:https://business.jacksonmn.com/events/details/health-care-foundation-meeting-12-21-2022-1954
END:VEVENT

END:VCALENDAR
