BEGIN:VCALENDAR
VERSION:2.0
PRODID:-//ChamberMaster//Event Calendar 2.0//EN
METHOD:PUBLISH
X-PUBLISHED-TTL:P3D
REFRESH-INTERVAL:P3D
CALSCALE:GREGORIAN
BEGIN:VEVENT
DTSTART:20210602T183000Z
DTEND:20210602T193000Z
X-MICROSOFT-CDO-ALLDAYEVENT:FALSE
SUMMARY:Jackson Promotion Team Meeting
DESCRIPTION:
X-ALT-DESC;FMTTYPE=text/html:
LOCATION:Meeting is held in the Small Conference Room at Pizza Ranch
UID:e.1497.685
SEQUENCE:3
DTSTAMP:20260424T041004Z
URL:https://business.jacksonmn.com/events/details/jackson-promotion-team-meeting-06-02-2021-685
END:VEVENT

END:VCALENDAR
