BEGIN:VCALENDAR
VERSION:2.0
PRODID:-//ChamberMaster//Event Calendar 2.0//EN
METHOD:PUBLISH
X-PUBLISHED-TTL:P3D
REFRESH-INTERVAL:P3D
CALSCALE:GREGORIAN
BEGIN:VEVENT
DTSTART:20190312T233000Z
DTEND:20190313T003000Z
X-MICROSOFT-CDO-ALLDAYEVENT:FALSE
SUMMARY:Jammin' 101 at Jackson Center for the Arts
DESCRIPTION:Jackson Center for the Arts presents:\n\nJammin' 101
X-ALT-DESC;FMTTYPE=text/html:Jackson Center for the Arts presents:<br />\nJammin&#39\; 101
LOCATION:Jackson Center for the Arts
UID:e.1497.4905
SEQUENCE:3
DTSTAMP:20260425T210325Z
URL:https://business.jacksonmn.com/events/details/jammin-101-at-jackson-center-for-the-arts-03-12-2019-4905
END:VEVENT

END:VCALENDAR
