BEGIN:VCALENDAR
VERSION:2.0
PRODID:-//ChamberMaster//Event Calendar 2.0//EN
METHOD:PUBLISH
X-PUBLISHED-TTL:P3D
REFRESH-INTERVAL:P3D
CALSCALE:GREGORIAN
BEGIN:VEVENT
DTSTART:20210113T180000Z
DTEND:20210113T190000Z
X-MICROSOFT-CDO-ALLDAYEVENT:FALSE
SUMMARY:JBDC: Jackson Business Development Committee
DESCRIPTION:
X-ALT-DESC;FMTTYPE=text/html:
LOCATION:Pizza Ranch Conference Room
UID:e.1497.1181
SEQUENCE:3
DTSTAMP:20260424T103841Z
URL:https://business.jacksonmn.com/events/details/jbdc-jackson-business-development-committee-01-13-2021-1181
END:VEVENT

END:VCALENDAR
