BEGIN:VCALENDAR
VERSION:2.0
PRODID:-//ChamberMaster//Event Calendar 2.0//EN
METHOD:PUBLISH
X-PUBLISHED-TTL:P3D
REFRESH-INTERVAL:P3D
CALSCALE:GREGORIAN
BEGIN:VEVENT
DTSTART:20220928T170000Z
DTEND:20220928T180000Z
X-MICROSOFT-CDO-ALLDAYEVENT:FALSE
SUMMARY:JMC Community Board
DESCRIPTION:
X-ALT-DESC;FMTTYPE=text/html:
LOCATION:Meets are held at Sanford Jackson Medical Center
UID:e.1497.2826
SEQUENCE:3
DTSTAMP:20260423T053116Z
URL:https://business.jacksonmn.com/events/details/jmc-community-board-09-28-2022-2826
END:VEVENT

END:VCALENDAR
