BEGIN:VCALENDAR
VERSION:2.0
PRODID:-//ChamberMaster//Event Calendar 2.0//EN
METHOD:PUBLISH
X-PUBLISHED-TTL:P3D
REFRESH-INTERVAL:P3D
CALSCALE:GREGORIAN
BEGIN:VEVENT
DTSTART:20221228T180000Z
DTEND:20221228T190000Z
X-MICROSOFT-CDO-ALLDAYEVENT:FALSE
SUMMARY:JMC Community Board
DESCRIPTION:
X-ALT-DESC;FMTTYPE=text/html:
LOCATION:Meets are held at Sanford Jackson Medical Center
UID:e.1497.2829
SEQUENCE:3
DTSTAMP:20260423T005927Z
URL:https://business.jacksonmn.com/events/details/jmc-community-board-12-28-2022-2829
END:VEVENT

END:VCALENDAR
