BEGIN:VCALENDAR
VERSION:2.0
PRODID:-//ChamberMaster//Event Calendar 2.0//EN
METHOD:PUBLISH
X-PUBLISHED-TTL:P3D
REFRESH-INTERVAL:P3D
CALSCALE:GREGORIAN
BEGIN:VEVENT
DTSTART:20230110T001000Z
DTEND:20230110T011000Z
X-MICROSOFT-CDO-ALLDAYEVENT:FALSE
SUMMARY:Lions Club Meeting
DESCRIPTION:
X-ALT-DESC;FMTTYPE=text/html:
LOCATION:Meeting is held at the Jackson Golf Club
UID:e.1497.2455
SEQUENCE:3
DTSTAMP:20260422T214856Z
URL:https://business.jacksonmn.com/events/details/lions-club-meeting-01-09-2023-2455
END:VEVENT

END:VCALENDAR
