BEGIN:VCALENDAR
VERSION:2.0
PRODID:-//ChamberMaster//Event Calendar 2.0//EN
METHOD:PUBLISH
X-PUBLISHED-TTL:P3D
REFRESH-INTERVAL:P3D
CALSCALE:GREGORIAN
BEGIN:VEVENT
DTSTART:20230124T001000Z
DTEND:20230124T011000Z
X-MICROSOFT-CDO-ALLDAYEVENT:FALSE
SUMMARY:Lions Club Meeting
DESCRIPTION:
X-ALT-DESC;FMTTYPE=text/html:
LOCATION:Meeting is held at the Jackson American Legion
UID:e.1497.2330
SEQUENCE:3
DTSTAMP:20260422T214855Z
URL:https://business.jacksonmn.com/events/details/lions-club-meeting-01-23-2023-2330
END:VEVENT

END:VCALENDAR
