BEGIN:VCALENDAR
VERSION:2.0
PRODID:-//ChamberMaster//Event Calendar 2.0//EN
METHOD:PUBLISH
X-PUBLISHED-TTL:P3D
REFRESH-INTERVAL:P3D
CALSCALE:GREGORIAN
BEGIN:VEVENT
DTSTART:20190527T231000Z
DTEND:20190528T001000Z
X-MICROSOFT-CDO-ALLDAYEVENT:FALSE
SUMMARY:Lions Club Meeting
DESCRIPTION:
X-ALT-DESC;FMTTYPE=text/html:
LOCATION:Meeting is held at the Jackson American Legion
UID:e.1497.2286
SEQUENCE:3
DTSTAMP:20260425T180125Z
URL:https://business.jacksonmn.com/events/details/lions-club-meeting-05-27-2019-2286
END:VEVENT

END:VCALENDAR
