BEGIN:VCALENDAR
VERSION:2.0
PRODID:-//ChamberMaster//Event Calendar 2.0//EN
METHOD:PUBLISH
X-PUBLISHED-TTL:P3D
REFRESH-INTERVAL:P3D
CALSCALE:GREGORIAN
BEGIN:VEVENT
DTSTART:20190909T231000Z
DTEND:20190910T001000Z
X-MICROSOFT-CDO-ALLDAYEVENT:FALSE
SUMMARY:Lions Club Meeting
DESCRIPTION:
X-ALT-DESC;FMTTYPE=text/html:
LOCATION:Meeting is held at the Jackson Golf Club
UID:e.1497.2415
SEQUENCE:3
DTSTAMP:20260425T131231Z
URL:https://business.jacksonmn.com/events/details/lions-club-meeting-09-09-2019-2415
END:VEVENT

END:VCALENDAR
