BEGIN:VCALENDAR
VERSION:2.0
PRODID:-//ChamberMaster//Event Calendar 2.0//EN
METHOD:PUBLISH
X-PUBLISHED-TTL:P3D
REFRESH-INTERVAL:P3D
CALSCALE:GREGORIAN
BEGIN:VEVENT
DTSTART:20200917T170000Z
DTEND:20200917T180000Z
X-MICROSOFT-CDO-ALLDAYEVENT:FALSE
SUMMARY:Lodging Assoc. Meeting
DESCRIPTION:
X-ALT-DESC;FMTTYPE=text/html:
LOCATION:Meets are held at The Jackson Pizza Ranch in the small conference room.
UID:e.1497.2052
SEQUENCE:3
DTSTAMP:20260424T164237Z
URL:https://business.jacksonmn.com/events/details/lodging-assoc-meeting-09-17-2020-2052
END:VEVENT

END:VCALENDAR
