BEGIN:VCALENDAR
VERSION:2.0
PRODID:-//ChamberMaster//Event Calendar 2.0//EN
METHOD:PUBLISH
X-PUBLISHED-TTL:P3D
REFRESH-INTERVAL:P3D
CALSCALE:GREGORIAN
BEGIN:VEVENT
DTSTART:20221020T170000Z
DTEND:20221020T180000Z
X-MICROSOFT-CDO-ALLDAYEVENT:FALSE
SUMMARY:Lodging Assoc. Meeting
DESCRIPTION:
X-ALT-DESC;FMTTYPE=text/html:
LOCATION:Meets are held at The Jackson Pizza Ranch in the small conference room.
UID:e.1497.2077
SEQUENCE:3
DTSTAMP:20260423T025500Z
URL:https://business.jacksonmn.com/events/details/lodging-assoc-meeting-10-20-2022-2077
END:VEVENT

END:VCALENDAR
