BEGIN:VCALENDAR
VERSION:2.0
PRODID:-//ChamberMaster//Event Calendar 2.0//EN
METHOD:PUBLISH
X-PUBLISHED-TTL:P3D
REFRESH-INTERVAL:P3D
CALSCALE:GREGORIAN
BEGIN:VEVENT
DTSTART:20220321T220000Z
DTEND:20220321T230000Z
X-MICROSOFT-CDO-ALLDAYEVENT:FALSE
SUMMARY:Park Board
DESCRIPTION:
X-ALT-DESC;FMTTYPE=text/html:
LOCATION:Meets are held at City Hall in the conference room
UID:e.1497.1570
SEQUENCE:3
DTSTAMP:20260423T130436Z
URL:https://business.jacksonmn.com/events/details/park-board-03-21-2022-1570
END:VEVENT

END:VCALENDAR
