BEGIN:VCALENDAR
VERSION:2.0
PRODID:-//ChamberMaster//Event Calendar 2.0//EN
METHOD:PUBLISH
X-PUBLISHED-TTL:P3D
REFRESH-INTERVAL:P3D
CALSCALE:GREGORIAN
BEGIN:VEVENT
DTSTART:20211115T230000Z
DTEND:20211116T000000Z
X-MICROSOFT-CDO-ALLDAYEVENT:FALSE
SUMMARY:Park Board
DESCRIPTION:
X-ALT-DESC;FMTTYPE=text/html:
LOCATION:Meets are held at City Hall in the conference room
UID:e.1497.1566
SEQUENCE:3
DTSTAMP:20260423T184737Z
URL:https://business.jacksonmn.com/events/details/park-board-11-15-2021-1566
END:VEVENT

END:VCALENDAR
